BEGIN:VCALENDAR
VERSION:2.0
PRODID:-//Tukios.com/
BEGIN:VEVENT
UID:88957e0c-c6fc-4302-a3ad-f4a1847b5d37@www.gilliganfuneralhomes.com
DTSTAMP:20260424T220512Z
DTSTART:20260428T150000Z
DTEND:20260428T160000Z
SUMMARY:Mass
DESCRIPTION:
URL:https://www.gilliganfuneralhomes.com/obituaries/phillip-sanders
LOCATION:St. John the Evangelist Church 7121 Plainfield Rd  Cincinnati OH 
	45236
GEO:39.1979373;-84.4006131
END:VEVENT
END:VCALENDAR