BEGIN:VCALENDAR
VERSION:2.0
PRODID:-//Tukios.com/
BEGIN:VEVENT
UID:8a2c43d3-4f9a-4dc3-a414-d1295e6bea12@www.gilliganfuneralhomes.com
DTSTAMP:20260424T220834Z
DTSTART:20260427T220000Z
DTEND:20260428T000000Z
SUMMARY:Visitation
DESCRIPTION:
URL:https://www.gilliganfuneralhomes.com/obituaries/phillip-sanders
LOCATION:Gilligan Funeral Home 8225 Montgomery Rd  Cincinnati OH 45236
GEO:39.2056181;-84.367718
END:VEVENT
END:VCALENDAR