BEGIN:VCALENDAR
VERSION:2.0
PRODID:-//Tukios.com/
BEGIN:VEVENT
UID:424b26f9-2acb-405c-9645-dea0385654bd@www.gilliganfuneralhomes.com
DTSTAMP:20260425T190612Z
DTSTART:20260429T170000Z
DTEND:20260429T180000Z
SUMMARY:Graveside Service
DESCRIPTION:
URL:https://www.gilliganfuneralhomes.com/obituaries/jack-niederhelman
LOCATION: 11000 Montgomery Rd  Cincinnati OH 45249
GEO:39.2620281;-84.3318544
END:VEVENT
END:VCALENDAR