BEGIN:VCALENDAR
VERSION:2.0
PRODID:-//Tukios.com/
BEGIN:VEVENT
UID:91f141c0-5fb2-4903-9885-612a58974e72@www.gilliganfuneralhomes.com
DTSTAMP:20260422T190037Z
DTSTART:20260429T150000Z
DTEND:20260429T160000Z
SUMMARY:Graveside Service
DESCRIPTION:
URL:https://www.gilliganfuneralhomes.com/obituaries/iryna-kosel
LOCATION:Gate of Heaven Cemetery 11000 Montgomery Rd  Cincinnati OH 45249
GEO:39.2620281;-84.3318544
END:VEVENT
END:VCALENDAR